BEGIN:VCALENDAR
VERSION:2.0
PRODID:-//Tukios.com/
BEGIN:VEVENT
UID:5e577091-bea3-4bd5-8457-e78ece419bee@www.angelfunerals.com
DTSTAMP:20260424T182559Z
DTSTART:20260501T190000Z
DTEND:20260501T200000Z
SUMMARY:Memorial Service
DESCRIPTION:Please note that this service will be held at our Schooler 
	location, 4100 South Georgia.
URL:https://www.angelfunerals.com/obituaries/alice-ketcherside
LOCATION: 4100 South Georgia Street  Amarillo TX 79110
GEO:35.1716721;-101.8665402
END:VEVENT
END:VCALENDAR