BEGIN:VCALENDAR
VERSION:2.0
PRODID:-//Tukios.com/
BEGIN:VEVENT
UID:325a1ff4-b5b9-419f-96ee-14b6debced44@www.angelfunerals.com
DTSTAMP:20260420T212731Z
DTSTART:20260424T233000Z
DTEND:20260425T003000Z
SUMMARY:Celebration of Life
DESCRIPTION:
URL:https://www.angelfunerals.com/obituaries/james-lewis
LOCATION:Amarillo Church of Christ 9999 South Western Street  Amarillo TX 
	79118
GEO:35.1056957;-101.8829849
END:VEVENT
END:VCALENDAR